BEGIN:VCALENDAR
VERSION:2.0
PRODID:-//cumodis.de//CUMODIS 1.0
CALSCALE:GREGORIAN
METHOD:PUBLISH
BEGIN:VEVENT
TZID:Europe/Berlin
SUMMARY:16. Baustoff-Technik-Tag in Reutlingen
UID:5751ec3e9a4feab575962e78e006250d@https://www.iste.de
SEQUENCE:0
STATUS:CONFIRMED
TRANSP:OPAQUE
DTSTART:20270202
DTEND:20270202T235959
DTSTAMP:20260423T135927
DESCRIPTION:Bitte merken Sie sich den Termin vor. Details folgen.
END:VEVENT
END:VCALENDAR