BEGIN:VCALENDAR
VERSION:2.0
PRODID:-//cumodis.de//CUMODIS 1.0
CALSCALE:GREGORIAN
METHOD:PUBLISH
BEGIN:VEVENT
TZID:Europe/Berlin
SUMMARY:ISTE-Junioren Exkursion Bad Cannstatt
UID:d4c2e4a3297fe25a71d030b67eb83bfc@https://www.iste.de
SEQUENCE:0
STATUS:CONFIRMED
TRANSP:OPAQUE
DTSTART:20260521
DTEND:20260521T235959
DTSTAMP:20260423T105340
DESCRIPTION:Gemeinsam Neues entdecken und das Netzwerk stärken: Erlebt einen
 abwechslungsreichen Tag in Stuttgart/Bad Cannstatt.
END:VEVENT
END:VCALENDAR