BEGIN:VCALENDAR
VERSION:2.0
PRODID:-//cumodis.de//CUMODIS 1.0
CALSCALE:GREGORIAN
METHOD:PUBLISH
BEGIN:VEVENT
TZID:Europe/Berlin
SUMMARY:Infoveranstaltung: Förderung für H2-Tankstellen &
 H2-Nutzfahrzeuge\, Online-Veranstaltung
UID:7f1171a78ce0780a2142a6eb7bc4f3c8@https://www.iste.de
SEQUENCE:0
STATUS:CONFIRMED
TRANSP:OPAQUE
DTSTART:20260504
DTEND:20260504T235959
DTSTAMP:20260420T171308
DESCRIPTION:Bis zum 31. Mai 2026 können Anträge für eine Förderung von
 Wasserstofftankstellen in Verbindung mit Nutzfahrzeugen mit
 wasserstoffbetriebenen Antrieben des Bundesministeriums für
 Verkehr (BMV) beim Projektträger Jülich eingereicht werden.
END:VEVENT
END:VCALENDAR