BEGIN:VCALENDAR
VERSION:2.0
PRODID:-//cumodis.de//CUMODIS 1.0
CALSCALE:GREGORIAN
METHOD:PUBLISH
BEGIN:VEVENT
TZID:Europe/Berlin
SUMMARY:Information an unsere Mitglieder: Wir treten ab sofort als BMKE
 auf
UID:08419be897405321542838d77f855226@https://www.iste.de
SEQUENCE:0
STATUS:CONFIRMED
TRANSP:OPAQUE
DTSTART:20260414
DTEND:20260414T235959
DTSTAMP:20260420T142850
DESCRIPTION:Der Bundesverband Mineralische Kreislaufwirtschaft und
 nachhaltige Entsorgung e. V. (BMKE)\, Berlin\, - vormals
 Bundesvereinigung Recycling-Baustoffe e.V. (BRB) - wurde am 11.
 Februar 2026 neu gegründet.
END:VEVENT
END:VCALENDAR