BEGIN:VCALENDAR
VERSION:2.0
PRODID:-//cumodis.de//CUMODIS 1.0
CALSCALE:GREGORIAN
METHOD:PUBLISH
BEGIN:VEVENT
TZID:Europe/Berlin
SUMMARY:stea Seminar: Was bringt die CSC-Zertifizierung - Aufwand und
 Nutzen\, Online
UID:9c82c7143c102b71c593d98d96093fde@https://www.iste.de
SEQUENCE:0
STATUS:CONFIRMED
TRANSP:OPAQUE
DTSTART:20260714T100000
DTEND:20260714T110000
DTSTAMP:20260424T062348
DESCRIPTION:Bitte merken Sie sich den Termin vor. Details folgen.
END:VEVENT
END:VCALENDAR