BEGIN:VCALENDAR
VERSION:2.0
PRODID:-//cumodis.de//CUMODIS 1.0
CALSCALE:GREGORIAN
METHOD:PUBLISH
BEGIN:VEVENT
TZID:Europe/Berlin
SUMMARY:Renaturierung Exkursion in Baden-Baden
UID:4a47d2983c8bd392b120b627e0e1cab4@https://www.iste.de
SEQUENCE:0
STATUS:CONFIRMED
TRANSP:OPAQUE
DTSTART:20260513T090000
DTEND:20260513T170000
DTSTAMP:20260424T073122
DESCRIPTION:Die Steine Erden Akademie (stea) und Ihre Kooperationspartner
 freuen sich\, Sie zur ganztägigen Exkursion mit einmaligen
 Einblicken in die Renaturierung und Rekultivierung von
 betriebenen Steinbrüchen und Kiesgruben einzuladen.
END:VEVENT
END:VCALENDAR