BEGIN:VCALENDAR
VERSION:2.0
PRODID:-//cumodis.de//CUMODIS 1.0
CALSCALE:GREGORIAN
METHOD:PUBLISH
BEGIN:VEVENT
TZID:Europe/Berlin
SUMMARY:ISTE vor Ort beim Parteitag der SPD in Ulm
UID:10a5ab2db37feedfdeaab192ead4ac0e@https://www.iste.de
SEQUENCE:0
STATUS:CONFIRMED
TRANSP:OPAQUE
DTSTART:20251115
DTEND:20251115T235959
DTSTAMP:20260421T204544
DESCRIPTION:Unsere Themen fanden beim Landesparteitag der SPD
 Anklang.&nbsp\;Wir hatten viele anregende Gespräche und konnten
 manchen Politikern ein &bdquo\;Aha-Erlebnis&ldquo\; vermitteln.
END:VEVENT
END:VCALENDAR